BEGIN:VCALENDAR
VERSION:2.0
PRODID:-//Monterey County Chapter - ECPv5.5.0.1//NONSGML v1.0//EN
CALSCALE:GREGORIAN
METHOD:PUBLISH
X-WR-CALNAME:Monterey County Chapter
X-ORIGINAL-URL:https://monterey.surfrider.org
X-WR-CALDESC:Events for Monterey County Chapter
BEGIN:VTIMEZONE
TZID:America/Los_Angeles
BEGIN:DAYLIGHT
TZOFFSETFROM:-0800
TZOFFSETTO:-0700
TZNAME:PDT
DTSTART:20200308T100000
END:DAYLIGHT
BEGIN:STANDARD
TZOFFSETFROM:-0700
TZOFFSETTO:-0800
TZNAME:PST
DTSTART:20201101T090000
END:STANDARD
END:VTIMEZONE
BEGIN:VEVENT
DTSTART;TZID=America/Los_Angeles:20200524T100000
DTEND;TZID=America/Los_Angeles:20200524T120000
DTSTAMP:20210427T235422
CREATED:20200216T004722Z
LAST-MODIFIED:20200216T004722Z
UID:1551-1590314400-1590321600@monterey.surfrider.org
SUMMARY:Beach Cleanup Big Sur
DESCRIPTION:MONTHLY BEACH CLEANUP \n4th Sunday –May 24\, 10am – 12n00n \nBig Sur\, details forthcoming\, \npost party/BBQ at Josef’s!
URL:https://monterey.surfrider.org/event/beach-cleanup-big-sur/
CATEGORIES:Beach Cleanup
END:VEVENT
END:VCALENDAR