BEGIN:VCALENDAR
VERSION:2.0
PRODID:-//Monterey County Chapter - ECPv5.5.0.1//NONSGML v1.0//EN
CALSCALE:GREGORIAN
METHOD:PUBLISH
X-WR-CALNAME:Monterey County Chapter
X-ORIGINAL-URL:https://monterey.surfrider.org
X-WR-CALDESC:Events for Monterey County Chapter
BEGIN:VTIMEZONE
TZID:America/Los_Angeles
BEGIN:DAYLIGHT
TZOFFSETFROM:-0800
TZOFFSETTO:-0700
TZNAME:PDT
DTSTART:20200308T100000
END:DAYLIGHT
BEGIN:STANDARD
TZOFFSETFROM:-0700
TZOFFSETTO:-0800
TZNAME:PST
DTSTART:20201101T090000
END:STANDARD
END:VTIMEZONE
BEGIN:VEVENT
DTSTART;TZID=America/Los_Angeles:20200322T100000
DTEND;TZID=America/Los_Angeles:20200322T120000
DTSTAMP:20210427T235404
CREATED:20200216T000421Z
LAST-MODIFIED:20200216T001255Z
UID:1536-1584871200-1584878400@monterey.surfrider.org
SUMMARY:Beach Cleanup Marina State Beach
DESCRIPTION:MONTHLY BEACH CLEANUP \n4th Sunday – March 22\, 10am – 12noon \nMarina State Beach \noff Reservation Road
URL:https://monterey.surfrider.org/event/beach-cleanup-marina-state-beach/
LOCATION:Marina State Beach\, Reservation Rd\, Marina\, CA\, 93933\, United States
CATEGORIES:Beach Cleanup
END:VEVENT
END:VCALENDAR