BEGIN:VCALENDAR
VERSION:2.0
PRODID:-//Monterey County Chapter - ECPv5.5.0.1//NONSGML v1.0//EN
CALSCALE:GREGORIAN
METHOD:PUBLISH
X-WR-CALNAME:Monterey County Chapter
X-ORIGINAL-URL:https://monterey.surfrider.org
X-WR-CALDESC:Events for Monterey County Chapter
BEGIN:VTIMEZONE
TZID:America/Los_Angeles
BEGIN:DAYLIGHT
TZOFFSETFROM:-0800
TZOFFSETTO:-0700
TZNAME:PDT
DTSTART:20200308T100000
END:DAYLIGHT
BEGIN:STANDARD
TZOFFSETFROM:-0700
TZOFFSETTO:-0800
TZNAME:PST
DTSTART:20201101T090000
END:STANDARD
END:VTIMEZONE
BEGIN:VEVENT
DTSTART;TZID=America/Los_Angeles:20200223T100000
DTEND;TZID=America/Los_Angeles:20200223T120000
DTSTAMP:20210427T235439
CREATED:20200215T234841Z
LAST-MODIFIED:20200215T234841Z
UID:1531-1582452000-1582459200@monterey.surfrider.org
SUMMARY:Beach Cleanup Sand City
DESCRIPTION:Monthly BEACH CLEANUP \n4th Sunday – February 23\, 10am – 12noon \nSand City\, Metz & Playa Ave \nBehind Home Goods
URL:https://monterey.surfrider.org/event/beach-cleanup-sand-city/
LOCATION:Sand City Beach at Playa\, 51-99 Metz Rd\, Sand City\, CA\, 93955\, United States
CATEGORIES:Beach Cleanup
END:VEVENT
END:VCALENDAR