BEGIN:VCALENDAR
VERSION:2.0
PRODID:-//Monterey County Chapter - ECPv5.5.0.1//NONSGML v1.0//EN
CALSCALE:GREGORIAN
METHOD:PUBLISH
X-WR-CALNAME:Monterey County Chapter
X-ORIGINAL-URL:https://monterey.surfrider.org
X-WR-CALDESC:Events for Monterey County Chapter
BEGIN:VTIMEZONE
TZID:America/Los_Angeles
BEGIN:DAYLIGHT
TZOFFSETFROM:-0800
TZOFFSETTO:-0700
TZNAME:PDT
DTSTART:20190310T100000
END:DAYLIGHT
BEGIN:STANDARD
TZOFFSETFROM:-0700
TZOFFSETTO:-0800
TZNAME:PST
DTSTART:20191103T090000
END:STANDARD
END:VTIMEZONE
BEGIN:VEVENT
DTSTART;TZID=America/Los_Angeles:20191114T173000
DTEND;TZID=America/Los_Angeles:20191114T193000
DTSTAMP:20210428T064911
CREATED:20191114T191943Z
LAST-MODIFIED:20191114T191943Z
UID:1516-1573752600-1573759800@monterey.surfrider.org
SUMMARY:Blue Beers @ Dust Bowl Brewing Co.
DESCRIPTION:Let’s drink & be merry \nGet to know your community over some beers and get a free raffle ticket for a chance to win a growler\, hats\, t-shirts\, sweatshirts\, & more! \nTonight @ Dust Bowl Brewing Co \n5:30-7:30 pm \nBlue Beers happens every 2nd Thursday of the month at rotating brewpubs around Monterey County. \nHope to sea you there!
URL:https://monterey.surfrider.org/event/blue-beers-dust-bowl-brewing-co/
LOCATION:Dust Bowl Brewing Co.\, 290 Figueroa St\, Monterey\, CA\, 93940\, United States
END:VEVENT
END:VCALENDAR