BEGIN:VCALENDAR
VERSION:2.0
PRODID:-//Monterey County Chapter - ECPv5.5.0.1//NONSGML v1.0//EN
CALSCALE:GREGORIAN
METHOD:PUBLISH
X-WR-CALNAME:Monterey County Chapter
X-ORIGINAL-URL:https://monterey.surfrider.org
X-WR-CALDESC:Events for Monterey County Chapter
BEGIN:VTIMEZONE
TZID:America/Los_Angeles
BEGIN:DAYLIGHT
TZOFFSETFROM:-0800
TZOFFSETTO:-0700
TZNAME:PDT
DTSTART:20190310T100000
END:DAYLIGHT
BEGIN:STANDARD
TZOFFSETFROM:-0700
TZOFFSETTO:-0800
TZNAME:PST
DTSTART:20191103T090000
END:STANDARD
END:VTIMEZONE
BEGIN:VEVENT
DTSTART;TZID=America/Los_Angeles:20191027T100000
DTEND;TZID=America/Los_Angeles:20191027T120000
DTSTAMP:20210428T065044
CREATED:20191025T175718Z
LAST-MODIFIED:20191025T175718Z
UID:1508-1572170400-1572177600@monterey.surfrider.org
SUMMARY:Beach Cleanup Moss Landing
DESCRIPTION:Join us for a beach cleanup at Moss Landing. We will meet by the first beach entrance off Jetty Road. \nFrequently asked questions\nDO I NEED TO SIGN UP AHEAD OF TIME?\nNo\, you can “just show up” in the morning and sign in. Its that simple! \nCAN I BRING MY KIDS\, FRIENDS OR A GROUP?\nYes. For groups of 20+\, just contact us and let us know how many you expect to have. Please read through the rest of the FAQ’s below before emailing. Kids of all ages are welcome but must be accompanied by an adult at all times. We cannot watch anyone once they are dropped off or cleaning the beach. \nWHAT DO YOU PROVIDE?\nWe provide bags\, gloves\, tabulating sheets (to keep longitudinal track of litter data)\, water and fruit. \nDO I NEED TO BRING ANYTHING?\nNo\, but if you have work gloves and a bucket\, bring them. (Water\, Hat\, Sunblock) \nDO I HAVE TO STAY THE WHOLE TWO HOURS?\nNo. You can help out for any length of time.
URL:https://monterey.surfrider.org/event/beach-cleanup-moss-landing/
LOCATION:Moss Landing State Beach\, Jetty Road\, Moss Landing\, CA\, 95039\, United States
END:VEVENT
END:VCALENDAR