BEGIN:VCALENDAR
VERSION:2.0
PRODID:-//Monterey County Chapter - ECPv5.5.0.1//NONSGML v1.0//EN
CALSCALE:GREGORIAN
METHOD:PUBLISH
X-WR-CALNAME:Monterey County Chapter
X-ORIGINAL-URL:https://monterey.surfrider.org
X-WR-CALDESC:Events for Monterey County Chapter
BEGIN:VTIMEZONE
TZID:America/Los_Angeles
BEGIN:DAYLIGHT
TZOFFSETFROM:-0800
TZOFFSETTO:-0700
TZNAME:PDT
DTSTART:20190310T100000
END:DAYLIGHT
BEGIN:STANDARD
TZOFFSETFROM:-0700
TZOFFSETTO:-0800
TZNAME:PST
DTSTART:20191103T090000
END:STANDARD
END:VTIMEZONE
BEGIN:VEVENT
DTSTART;TZID=America/Los_Angeles:20191010T190000
DTEND;TZID=America/Los_Angeles:20191010T210000
DTSTAMP:20210428T065041
CREATED:20190917T013657Z
LAST-MODIFIED:20190917T013657Z
UID:1500-1570734000-1570741200@monterey.surfrider.org
SUMMARY:Artifishal
DESCRIPTION:
URL:https://monterey.surfrider.org/event/artifishal/
LOCATION:Osio Theater\, 350 ALVARADO STREET\, MONTEREY\, California\, 93940​\, United States
END:VEVENT
END:VCALENDAR