BEGIN:VCALENDAR
VERSION:2.0
PRODID:-//Monterey County Chapter - ECPv5.5.0.1//NONSGML v1.0//EN
CALSCALE:GREGORIAN
METHOD:PUBLISH
X-WR-CALNAME:Monterey County Chapter
X-ORIGINAL-URL:https://monterey.surfrider.org
X-WR-CALDESC:Events for Monterey County Chapter
BEGIN:VTIMEZONE
TZID:UTC
BEGIN:STANDARD
TZOFFSETFROM:+0000
TZOFFSETTO:+0000
TZNAME:UTC
DTSTART:20180101T000000
END:STANDARD
END:VTIMEZONE
BEGIN:VEVENT
DTSTART;TZID=UTC:20181012T183000
DTEND;TZID=UTC:20181012T203000
DTSTAMP:20210506T213006
CREATED:20181011T114401Z
LAST-MODIFIED:20181011T115741Z
UID:1048-1539369000-1539376200@monterey.surfrider.org
SUMMARY:Chapter Meeting and Mixer
DESCRIPTION:  \nJoin us\nTHE LAB\nFriday\, October 12\n6:30 – 8:30 pm\nCome watch old local surf footage\nLearn about programs and volunteer opportunities\nEnjoy music and light appetizers\nFamily friendly event with kids activity table\nBeer\, wine and pizza available for purchase\nGood times with good people!
URL:https://monterey.surfrider.org/event/chapter-meeting-and-mixer/
LOCATION:The Lab at the Barnyard\, 3728 The Barnyard\, G23\, Carmel-by-the-sea\, CA\, 93923\, United States
END:VEVENT
END:VCALENDAR