BEGIN:VCALENDAR
VERSION:2.0
PRODID:-//Monterey County Chapter - ECPv5.5.0.1//NONSGML v1.0//EN
CALSCALE:GREGORIAN
METHOD:PUBLISH
X-WR-CALNAME:Monterey County Chapter
X-ORIGINAL-URL:https://monterey.surfrider.org
X-WR-CALDESC:Events for Monterey County Chapter
BEGIN:VTIMEZONE
TZID:UTC
BEGIN:STANDARD
TZOFFSETFROM:+0000
TZOFFSETTO:+0000
TZNAME:UTC
DTSTART:20170101T000000
END:STANDARD
END:VTIMEZONE
BEGIN:VEVENT
DTSTART;TZID=UTC:20170725T073000
DTEND;TZID=UTC:20170725T110000
DTSTAMP:20210426T131147
CREATED:20170725T085825Z
LAST-MODIFIED:20170725T085825Z
UID:866-1500967800-1500980400@monterey.surfrider.org
SUMMARY:Pick it up PG!
DESCRIPTION:Pick up the areas around Lover’s Point.
URL:https://monterey.surfrider.org/event/pick-it-up-pg/
LOCATION:Lover’s Point\, 631 Ocean View Blvd.\, Pacific Grove\, CA\, 93950\, United States
END:VEVENT
END:VCALENDAR