BEGIN:VCALENDAR
VERSION:2.0
PRODID:-//Monterey County Chapter - ECPv5.5.0.1//NONSGML v1.0//EN
CALSCALE:GREGORIAN
METHOD:PUBLISH
X-WR-CALNAME:Monterey County Chapter
X-ORIGINAL-URL:https://monterey.surfrider.org
X-WR-CALDESC:Events for Monterey County Chapter
BEGIN:VTIMEZONE
TZID:UTC
BEGIN:STANDARD
TZOFFSETFROM:+0000
TZOFFSETTO:+0000
TZNAME:UTC
DTSTART:20190101T000000
END:STANDARD
END:VTIMEZONE
BEGIN:VEVENT
DTSTART;TZID=UTC:20190305T190000
DTEND;TZID=UTC:20190305T203000
DTSTAMP:20210426T131223
CREATED:20190131T131303Z
LAST-MODIFIED:20190131T131647Z
UID:1165-1551812400-1551817800@monterey.surfrider.org
SUMMARY:Film Screening at REI Marina
DESCRIPTION:Come see Offshore Oil Drilling and Recreation Don’t Mix\, an enlightening and engaging brief video and presentation on the threats of oil drilling. Learn what you can do about offshore oil drilling\, engage with your Chapter\, and learn about other opportunities to get involved.  All are welcome!
URL:https://monterey.surfrider.org/event/film-screening-at-rei-marina/
LOCATION:REI Marina\, 145 General Stilwell\, Monterey\, CA\, 93933\, United States
END:VEVENT
END:VCALENDAR