BEGIN:VCALENDAR
VERSION:2.0
PRODID:-//Monterey County Chapter - ECPv5.5.0.1//NONSGML v1.0//EN
CALSCALE:GREGORIAN
METHOD:PUBLISH
X-WR-CALNAME:Monterey County Chapter
X-ORIGINAL-URL:https://monterey.surfrider.org
X-WR-CALDESC:Events for Monterey County Chapter
BEGIN:VTIMEZONE
TZID:UTC
BEGIN:STANDARD
TZOFFSETFROM:+0000
TZOFFSETTO:+0000
TZNAME:UTC
DTSTART:20170101T000000
END:STANDARD
END:VTIMEZONE
BEGIN:VEVENT
DTSTART;TZID=UTC:20170326T100000
DTEND;TZID=UTC:20170326T120000
DTSTAMP:20210426T131209
CREATED:20161122T073049Z
LAST-MODIFIED:20170303T121122Z
UID:397-1490522400-1490529600@monterey.surfrider.org
SUMMARY:Beach cleanup at Monterey Municipal Wharf
DESCRIPTION:Join us for a beach cleanup at Monterey Municipal Wharf
URL:https://monterey.surfrider.org/event/beach-cleanup-at-salinas-river-state-beach/
LOCATION:Monterey Municipal Wharf\, Municipal Wharf 2\, Monterey\, CA\, 93940\, United States
CATEGORIES:Beach Cleanup
END:VEVENT
END:VCALENDAR