BEGIN:VCALENDAR
VERSION:2.0
PRODID:-//Monterey County Chapter - ECPv5.1.2.1//NONSGML v1.0//EN
CALSCALE:GREGORIAN
METHOD:PUBLISH
X-WR-CALNAME:Monterey County Chapter
X-ORIGINAL-URL:https://monterey.surfrider.org
X-WR-CALDESC:Events for Monterey County Chapter
BEGIN:VTIMEZONE
TZID:UTC
BEGIN:STANDARD
TZOFFSETFROM:+0000
TZOFFSETTO:+0000
TZNAME:UTC
DTSTART:20170101T000000
END:STANDARD
END:VTIMEZONE
BEGIN:VEVENT
DTSTART;TZID=UTC:20170226T100000
DTEND;TZID=UTC:20170226T120000
DTSTAMP:20210425T154031
CREATED:20161122T073048Z
LAST-MODIFIED:20161122T073556Z
UID:396-1488103200-1488110400@monterey.surfrider.org
SUMMARY:Beach cleanup at Moss Landing State Beach
DESCRIPTION:\n\n\nJoin us for a beach cleanup at Moss Landing State Beach\n\n\n\n
URL:https://monterey.surfrider.org/event/beach-cleanup-at-moss-landing-state-beach/
LOCATION:Moss Landing State Beach\, Jetty Road\, Moss Landing\, CA\, 95039\, United States
CATEGORIES:Beach Cleanup
END:VEVENT
END:VCALENDAR