BEGIN:VCALENDAR
VERSION:2.0
PRODID:-//Monterey County Chapter - ECPv5.5.0.1//NONSGML v1.0//EN
CALSCALE:GREGORIAN
METHOD:PUBLISH
X-WR-CALNAME:Monterey County Chapter
X-ORIGINAL-URL:https://monterey.surfrider.org
X-WR-CALDESC:Events for Monterey County Chapter
BEGIN:VTIMEZONE
TZID:UTC
BEGIN:STANDARD
TZOFFSETFROM:+0000
TZOFFSETTO:+0000
TZNAME:UTC
DTSTART:20180101T000000
END:STANDARD
END:VTIMEZONE
BEGIN:VEVENT
DTSTART;TZID=UTC:20180624T100000
DTEND;TZID=UTC:20180624T120000
DTSTAMP:20210426T194647
CREATED:20180214T024109Z
LAST-MODIFIED:20180214T024249Z
UID:955-1529834400-1529841600@monterey.surfrider.org
SUMMARY:Beach cleanup at Del Monte Beach at Casa Verde
DESCRIPTION:Join us for a beach cleanup at Del Monte Beach at Casa Verde. \nFrequently asked questions\nDO I NEED TO SIGN UP AHEAD OF TIME?\nNo\, you can “just show up” in the morning and sign in. Its that simple! \nCAN I BRING MY KIDS\, FRIENDS OR A GROUP?\nYes. For groups of 20+\, just contact us and let us know how many you expect to have. Please read through the rest of the FAQ’s below before emailing. Kids of all ages are welcome but must be accompanied by an adult at all times. We cannot watch anyone once they are dropped off or cleaning the beach. \nWHAT DO YOU PROVIDE?\nWe provide bags\, gloves\, tabulating sheets (to keep longitudinal track of litter data)\, water and fruit. \nDO I NEED TO BRING ANYTHING?\nNo\, but if you have work gloves and a bucket\, bring them. (Water\, Hat\, Sunblock) \nDO I HAVE TO STAY THE WHOLE TWO HOURS?\nNo. You can help out for any length of time.
URL:https://monterey.surfrider.org/event/beach-cleanup-at-del-monte-beach-at-casa-verde/
LOCATION:Del Monte Beach\, 150 Tide Ave\, Monterey\, CA\, 93940\, United States
CATEGORIES:Beach Cleanup
END:VEVENT
END:VCALENDAR