BEGIN:VCALENDAR
VERSION:2.0
PRODID:-//Monterey County Chapter - ECPv5.1.2.1//NONSGML v1.0//EN
CALSCALE:GREGORIAN
METHOD:PUBLISH
X-WR-CALNAME:Monterey County Chapter
X-ORIGINAL-URL:https://monterey.surfrider.org
X-WR-CALDESC:Events for Monterey County Chapter
BEGIN:VTIMEZONE
TZID:UTC
BEGIN:STANDARD
TZOFFSETFROM:+0000
TZOFFSETTO:+0000
TZNAME:UTC
DTSTART:20160101T000000
END:STANDARD
END:VTIMEZONE
BEGIN:VEVENT
DTSTART;TZID=UTC:20161218T100000
DTEND;TZID=UTC:20161218T120000
DTSTAMP:20210422T175332
CREATED:20161029T044415Z
LAST-MODIFIED:20161029T045142Z
UID:313-1482055200-1482062400@monterey.surfrider.org
SUMMARY:Beach Cleanup - Asilomar
DESCRIPTION:\n\n\nJoin us for a beach cleanup at the always-beautiful Asilomar State Beach.\n\n\n\n
URL:https://monterey.surfrider.org/event/beach-cleanup-asilomar/
LOCATION:Asilomar State Beach\, 1924 Sunset Drive\, Pacific Grove\, CA\, 93950\, United States
CATEGORIES:Beach Cleanup
END:VEVENT
END:VCALENDAR